BEGIN:VCALENDAR
VERSION:2.0
PRODID:www.jamk.fi
BEGIN:VEVENT
UID:69ea3f659cc48
DTSTART:20240820T120000Z
SEQUENCE:0
TRANSP:OPAQUE
DTEND:20240820T133000Z
LOCATION:\, \, 
SUMMARY:Avoimen uusien opiskelijoiden orientaatioinfo | Jamk
CLASS:PUBLIC
DESCRIPTION:Orientaatioinfossa kerrotaan erityisesti avoimen ammattikorkeak
 oulun opiskelijoita koskettavista opiskelun käytänteistä. Saat myös ta
 rkempaa tietoa avoimen väylästä ja tutustut avoimen toimijoihin.
DTSTAMP:20260423T154853Z
END:VEVENT
END:VCALENDAR