BEGIN:VCALENDAR
VERSION:2.0
PRODID:www.jamk.fi
BEGIN:VEVENT
UID:69e9deef85dd2
DTSTART:20220325T070000Z
SEQUENCE:0
TRANSP:OPAQUE
DTEND:20220325T080000Z
LOCATION:\, \, 
SUMMARY:Alumnin ääni -webinaarivieraana Liisi Pohjola: Miten oppiminen mu
 uttuu iän myötä? | Jamk
CLASS:PUBLIC
DESCRIPTION:Tervetuloa seuraamaan Jyväskylän ammattikorkeakoulun Alumnin 
 ääni -podcast-sarjaa! 
DTSTAMP:20260423T085719Z
END:VEVENT
END:VCALENDAR