BEGIN:VCALENDAR
VERSION:2.0
PRODID:www.jamk.fi
BEGIN:VEVENT
UID:69e79845f2afe
DTSTART:20220316T080000Z
SEQUENCE:0
TRANSP:OPAQUE
DTEND:20220316T091500Z
LOCATION:\, \, 
SUMMARY:Näkökulmia kansainvälisen osaajan rekrytointiin -webinaari | Jam
 k
CLASS:PUBLIC
DESCRIPTION:HOKSAUTUS-hankkeen Miten onnistua kansainvälisen osaajan rekry
 toinnissa -webinaarisarja käynnistyy maaliskuussa 2022. Webinaarisarjan e
 nsimmäisen osan aiheena on Näkökulmia kansainvälisen osaajan rekrytoin
 tiin.
DTSTAMP:20260421T153117Z
END:VEVENT
END:VCALENDAR