BEGIN:VCALENDAR
VERSION:2.0
PRODID:www.jamk.fi
BEGIN:VEVENT
UID:69e76026c9ab1
DTSTART:20260429T060000Z
SEQUENCE:0
TRANSP:OPAQUE
DTEND:20260429T063000Z
LOCATION:\, \, 
SUMMARY:Konepajayritys: miten alkuun vastuullisuudessa? | Jamk
CLASS:PUBLIC
DESCRIPTION:Millaisia raportointivelvoitteita isot yritykset ovat asettanee
 t alihankintaketjulleen? Teams-tapahtumassa on tarjolla tietoa sekä vinkk
 ejä\, millaisia työkaluja on kehitetty vastuullisuustietojen raportointi
 in.
DTSTAMP:20260421T113150Z
END:VEVENT
END:VCALENDAR