BEGIN:VCALENDAR
VERSION:2.0
PRODID:www.jamk.fi
BEGIN:VEVENT
UID:69e549cd4dbd4
DTSTART:20260522T110000Z
SEQUENCE:0
TRANSP:OPAQUE
DTEND:20260522T130000Z
LOCATION:Piippukatu 2\, 40100\, Jyväskylä 
SUMMARY:Hyvinvointiyksikön valmistujaisjuhla  | Jamk
CLASS:PUBLIC
DESCRIPTION:Lämpimästi tervetuloa AMK- ja YAMK-tutkintoon valmistuvien ju
 hlaan 
DTSTAMP:20260419T213157Z
END:VEVENT
END:VCALENDAR