BEGIN:VCALENDAR
VERSION:2.0
PRODID:www.jamk.fi
BEGIN:VEVENT
UID:69eb562ecacd0
DTSTART:20251209T120000Z
SEQUENCE:0
TRANSP:OPAQUE
DTEND:20251209T130000Z
LOCATION:\, \, 
SUMMARY:Webinar: The Politics of Stories  | Jamk
CLASS:PUBLIC
DESCRIPTION:Research insights into vocational teacher education webinar ser
 ies. Webinar on December 9: The Politics of Stories: Understanding the Pow
 er of Narratives in the Age of the Hypernarrative Turn. 
DTSTAMP:20260424T113822Z
END:VEVENT
END:VCALENDAR