BEGIN:VCALENDAR
VERSION:2.0
PRODID:www.jamk.fi
BEGIN:VEVENT
UID:69e9dee37f0b9
DTSTART:20251021T110000Z
SEQUENCE:0
TRANSP:OPAQUE
DTEND:20251021T120000Z
LOCATION:\, \, 
SUMMARY:Webinar: Practices to overcome learning losses  | Jamk
CLASS:PUBLIC
DESCRIPTION:Professor Oksana Kovtun\, from Hryhorii Skovoroda University in
  Pereiaslav (Ukraine)\, will speak in the webinar. 
DTSTAMP:20260423T085707Z
END:VEVENT
END:VCALENDAR