BEGIN:VCALENDAR
VERSION:2.0
PRODID:www.jamk.fi
BEGIN:VEVENT
UID:69e70625649cc
DTSTART:20230602T110000Z
SEQUENCE:0
TRANSP:OPAQUE
DTEND:20230602T130000Z
LOCATION:Rajakatu 35\, 40100\, Jyväskylä
SUMMARY:Graduation ceremony for students in the Institute of New Industry |
  Jamk
CLASS:PUBLIC
DESCRIPTION:The Institute of New Industry welcomes Bachelor’s degree grad
 uates to the graduation ceremony on Friday June 2nd\, 2023 at 2 p.m. 
DTSTAMP:20260421T050749Z
END:VEVENT
END:VCALENDAR