BEGIN:VCALENDAR
VERSION:2.0
PRODID:www.jamk.fi
BEGIN:VEVENT
UID:69e994edaa8fb
DTSTART:20230330T120000Z
SEQUENCE:0
TRANSP:OPAQUE
DTEND:20230330T130000Z
LOCATION:\, \, 
SUMMARY:Launch Webinar for BioBoosters Challenge Provider Call | Jamk
CLASS:PUBLIC
DESCRIPTION:Join our countdown to the opening of the call for challenge pro
 vider companies! We are ready to match solutions to challenges and boost b
 usiness-driven transition to circular economy business models.
DTSTAMP:20260423T034133Z
END:VEVENT
END:VCALENDAR