BEGIN:VCALENDAR
VERSION:2.0
PRODID:www.jamk.fi
BEGIN:VEVENT
UID:69ea68ec7dfcf
DTSTART:20221109T070000Z
SEQUENCE:0
TRANSP:OPAQUE
DTEND:20221109T160000Z
LOCATION:Rajakatu 35\, 40200\, Jyväskylä
SUMMARY:Pelaten duuniin! -project open doors and GamePit gaming cafe | Jamk
CLASS:PUBLIC
DESCRIPTION:As part of the International Gaming Week\, Pelaten duuniin! -pr
 oject will organize open doors at the GamePit Pro facility on Wednesday 9 
 November. from 9am to 11am. After that the day continues as a gaming cafe 
 from 4pm to 8pm.<br />\n
DTSTAMP:20260423T184604Z
END:VEVENT
BEGIN:VEVENT
UID:69ea68ec7dff2
DTSTART:20221110T070000Z
SEQUENCE:0
TRANSP:OPAQUE
DTEND:20221110T160000Z
LOCATION:Rajakatu 35\, 40200\, Jyväskylä
SUMMARY:Pelaten duuniin! -project open doors and GamePit gaming cafe | Jamk
CLASS:PUBLIC
DESCRIPTION:As part of the International Gaming Week\, Pelaten duuniin! -pr
 oject will organize open doors at the GamePit Pro facility on Wednesday 9 
 November. from 9am to 11am. After that the day continues as a gaming cafe 
 from 4pm to 8pm.<br />\n
DTSTAMP:20260423T184604Z
END:VEVENT
END:VCALENDAR