BEGIN:VCALENDAR
VERSION:2.0
PRODID:www.jamk.fi
BEGIN:VEVENT
UID:69ebb5e2b105e
DTSTART:20250925T070000Z
SEQUENCE:0
TRANSP:OPAQUE
DTEND:20250925T140000Z
LOCATION:Paviljonki\, 40100\, Jyväskylä
SUMMARY:Rekry\, työelämä &amp\; koulutus -fair | Jamk
CLASS:PUBLIC
DESCRIPTION:Jamk will participate as a partner and exhibitor at the &quot\;
 Recruitment\, Working Life and Education&quot\; Fair at Jyväskylän Pavil
 jonki on September 25\, together with the City of Jyväskylä\, the Univer
 sity of Jyväskylä\, and the Jyväskylä Educational Consortium Gradia.
DTSTAMP:20260424T182642Z
END:VEVENT
END:VCALENDAR