BEGIN:VCALENDAR
VERSION:2.0
PRODID:www.jamk.fi
BEGIN:VEVENT
UID:69e6b817b173d
DTSTART:20260409T060000Z
SEQUENCE:0
TRANSP:OPAQUE
DTEND:20260409T130000Z
LOCATION:Rajakatu 35\, 40100\, Jyväskylä
SUMMARY:Talent Sprint Challenge | Jamk
CLASS:PUBLIC
DESCRIPTION:Empowering future talents with right opportunities! Talent Spri
 nt connects students and companies through real case-solving and practical
  collaboration. Talent Sprint is organised in collaboration with Talent Bo
 ost and Brande.<br />\n<br />\n
DTSTAMP:20260420T233447Z
END:VEVENT
BEGIN:VEVENT
UID:69e6b817b1772
DTSTART:20260410T060000Z
SEQUENCE:0
TRANSP:OPAQUE
DTEND:20260410T130000Z
LOCATION:Rajakatu 35\, 40100\, Jyväskylä
SUMMARY:Talent Sprint Challenge | Jamk
CLASS:PUBLIC
DESCRIPTION:Empowering future talents with right opportunities! Talent Spri
 nt connects students and companies through real case-solving and practical
  collaboration. Talent Sprint is organised in collaboration with Talent Bo
 ost and Brande.<br />\n<br />\n
DTSTAMP:20260420T233447Z
END:VEVENT
BEGIN:VEVENT
UID:69e6b817b1778
DTSTART:20260411T060000Z
SEQUENCE:0
TRANSP:OPAQUE
DTEND:20260411T130000Z
LOCATION:Rajakatu 35\, 40100\, Jyväskylä
SUMMARY:Talent Sprint Challenge | Jamk
CLASS:PUBLIC
DESCRIPTION:Empowering future talents with right opportunities! Talent Spri
 nt connects students and companies through real case-solving and practical
  collaboration. Talent Sprint is organised in collaboration with Talent Bo
 ost and Brande.<br />\n<br />\n
DTSTAMP:20260420T233447Z
END:VEVENT
BEGIN:VEVENT
UID:69e6b817b177d
DTSTART:20260412T060000Z
SEQUENCE:0
TRANSP:OPAQUE
DTEND:20260412T130000Z
LOCATION:Rajakatu 35\, 40100\, Jyväskylä
SUMMARY:Talent Sprint Challenge | Jamk
CLASS:PUBLIC
DESCRIPTION:Empowering future talents with right opportunities! Talent Spri
 nt connects students and companies through real case-solving and practical
  collaboration. Talent Sprint is organised in collaboration with Talent Bo
 ost and Brande.<br />\n<br />\n
DTSTAMP:20260420T233447Z
END:VEVENT
BEGIN:VEVENT
UID:69e6b817b1782
DTSTART:20260413T060000Z
SEQUENCE:0
TRANSP:OPAQUE
DTEND:20260413T130000Z
LOCATION:Rajakatu 35\, 40100\, Jyväskylä
SUMMARY:Talent Sprint Challenge | Jamk
CLASS:PUBLIC
DESCRIPTION:Empowering future talents with right opportunities! Talent Spri
 nt connects students and companies through real case-solving and practical
  collaboration. Talent Sprint is organised in collaboration with Talent Bo
 ost and Brande.<br />\n<br />\n
DTSTAMP:20260420T233447Z
END:VEVENT
BEGIN:VEVENT
UID:69e6b817b1787
DTSTART:20260414T060000Z
SEQUENCE:0
TRANSP:OPAQUE
DTEND:20260414T130000Z
LOCATION:Rajakatu 35\, 40100\, Jyväskylä
SUMMARY:Talent Sprint Challenge | Jamk
CLASS:PUBLIC
DESCRIPTION:Empowering future talents with right opportunities! Talent Spri
 nt connects students and companies through real case-solving and practical
  collaboration. Talent Sprint is organised in collaboration with Talent Bo
 ost and Brande.<br />\n<br />\n
DTSTAMP:20260420T233447Z
END:VEVENT
BEGIN:VEVENT
UID:69e6b817b178d
DTSTART:20260415T060000Z
SEQUENCE:0
TRANSP:OPAQUE
DTEND:20260415T130000Z
LOCATION:Rajakatu 35\, 40100\, Jyväskylä
SUMMARY:Talent Sprint Challenge | Jamk
CLASS:PUBLIC
DESCRIPTION:Empowering future talents with right opportunities! Talent Spri
 nt connects students and companies through real case-solving and practical
  collaboration. Talent Sprint is organised in collaboration with Talent Bo
 ost and Brande.<br />\n<br />\n
DTSTAMP:20260420T233447Z
END:VEVENT
BEGIN:VEVENT
UID:69e6b817b1792
DTSTART:20260416T060000Z
SEQUENCE:0
TRANSP:OPAQUE
DTEND:20260416T130000Z
LOCATION:Rajakatu 35\, 40100\, Jyväskylä
SUMMARY:Talent Sprint Challenge | Jamk
CLASS:PUBLIC
DESCRIPTION:Empowering future talents with right opportunities! Talent Spri
 nt connects students and companies through real case-solving and practical
  collaboration. Talent Sprint is organised in collaboration with Talent Bo
 ost and Brande.<br />\n<br />\n
DTSTAMP:20260420T233447Z
END:VEVENT
BEGIN:VEVENT
UID:69e6b817b1796
DTSTART:20260417T060000Z
SEQUENCE:0
TRANSP:OPAQUE
DTEND:20260417T130000Z
LOCATION:Rajakatu 35\, 40100\, Jyväskylä
SUMMARY:Talent Sprint Challenge | Jamk
CLASS:PUBLIC
DESCRIPTION:Empowering future talents with right opportunities! Talent Spri
 nt connects students and companies through real case-solving and practical
  collaboration. Talent Sprint is organised in collaboration with Talent Bo
 ost and Brande.<br />\n<br />\n
DTSTAMP:20260420T233447Z
END:VEVENT
BEGIN:VEVENT
UID:69e6b817b179c
DTSTART:20260418T060000Z
SEQUENCE:0
TRANSP:OPAQUE
DTEND:20260418T130000Z
LOCATION:Rajakatu 35\, 40100\, Jyväskylä
SUMMARY:Talent Sprint Challenge | Jamk
CLASS:PUBLIC
DESCRIPTION:Empowering future talents with right opportunities! Talent Spri
 nt connects students and companies through real case-solving and practical
  collaboration. Talent Sprint is organised in collaboration with Talent Bo
 ost and Brande.<br />\n<br />\n
DTSTAMP:20260420T233447Z
END:VEVENT
BEGIN:VEVENT
UID:69e6b817b17a1
DTSTART:20260419T060000Z
SEQUENCE:0
TRANSP:OPAQUE
DTEND:20260419T130000Z
LOCATION:Rajakatu 35\, 40100\, Jyväskylä
SUMMARY:Talent Sprint Challenge | Jamk
CLASS:PUBLIC
DESCRIPTION:Empowering future talents with right opportunities! Talent Spri
 nt connects students and companies through real case-solving and practical
  collaboration. Talent Sprint is organised in collaboration with Talent Bo
 ost and Brande.<br />\n<br />\n
DTSTAMP:20260420T233447Z
END:VEVENT
BEGIN:VEVENT
UID:69e6b817b17a6
DTSTART:20260420T060000Z
SEQUENCE:0
TRANSP:OPAQUE
DTEND:20260420T130000Z
LOCATION:Rajakatu 35\, 40100\, Jyväskylä
SUMMARY:Talent Sprint Challenge | Jamk
CLASS:PUBLIC
DESCRIPTION:Empowering future talents with right opportunities! Talent Spri
 nt connects students and companies through real case-solving and practical
  collaboration. Talent Sprint is organised in collaboration with Talent Bo
 ost and Brande.<br />\n<br />\n
DTSTAMP:20260420T233447Z
END:VEVENT
BEGIN:VEVENT
UID:69e6b817b17ab
DTSTART:20260421T060000Z
SEQUENCE:0
TRANSP:OPAQUE
DTEND:20260421T130000Z
LOCATION:Rajakatu 35\, 40100\, Jyväskylä
SUMMARY:Talent Sprint Challenge | Jamk
CLASS:PUBLIC
DESCRIPTION:Empowering future talents with right opportunities! Talent Spri
 nt connects students and companies through real case-solving and practical
  collaboration. Talent Sprint is organised in collaboration with Talent Bo
 ost and Brande.<br />\n<br />\n
DTSTAMP:20260420T233447Z
END:VEVENT
BEGIN:VEVENT
UID:69e6b817b17b0
DTSTART:20260422T060000Z
SEQUENCE:0
TRANSP:OPAQUE
DTEND:20260422T130000Z
LOCATION:Rajakatu 35\, 40100\, Jyväskylä
SUMMARY:Talent Sprint Challenge | Jamk
CLASS:PUBLIC
DESCRIPTION:Empowering future talents with right opportunities! Talent Spri
 nt connects students and companies through real case-solving and practical
  collaboration. Talent Sprint is organised in collaboration with Talent Bo
 ost and Brande.<br />\n<br />\n
DTSTAMP:20260420T233447Z
END:VEVENT
BEGIN:VEVENT
UID:69e6b817b17b5
DTSTART:20260423T060000Z
SEQUENCE:0
TRANSP:OPAQUE
DTEND:20260423T130000Z
LOCATION:Rajakatu 35\, 40100\, Jyväskylä
SUMMARY:Talent Sprint Challenge | Jamk
CLASS:PUBLIC
DESCRIPTION:Empowering future talents with right opportunities! Talent Spri
 nt connects students and companies through real case-solving and practical
  collaboration. Talent Sprint is organised in collaboration with Talent Bo
 ost and Brande.<br />\n<br />\n
DTSTAMP:20260420T233447Z
END:VEVENT
BEGIN:VEVENT
UID:69e6b817b17ba
DTSTART:20260424T060000Z
SEQUENCE:0
TRANSP:OPAQUE
DTEND:20260424T130000Z
LOCATION:Rajakatu 35\, 40100\, Jyväskylä
SUMMARY:Talent Sprint Challenge | Jamk
CLASS:PUBLIC
DESCRIPTION:Empowering future talents with right opportunities! Talent Spri
 nt connects students and companies through real case-solving and practical
  collaboration. Talent Sprint is organised in collaboration with Talent Bo
 ost and Brande.<br />\n<br />\n
DTSTAMP:20260420T233447Z
END:VEVENT
BEGIN:VEVENT
UID:69e6b817b17bf
DTSTART:20260425T060000Z
SEQUENCE:0
TRANSP:OPAQUE
DTEND:20260425T130000Z
LOCATION:Rajakatu 35\, 40100\, Jyväskylä
SUMMARY:Talent Sprint Challenge | Jamk
CLASS:PUBLIC
DESCRIPTION:Empowering future talents with right opportunities! Talent Spri
 nt connects students and companies through real case-solving and practical
  collaboration. Talent Sprint is organised in collaboration with Talent Bo
 ost and Brande.<br />\n<br />\n
DTSTAMP:20260420T233447Z
END:VEVENT
BEGIN:VEVENT
UID:69e6b817b17cc
DTSTART:20260426T060000Z
SEQUENCE:0
TRANSP:OPAQUE
DTEND:20260426T130000Z
LOCATION:Rajakatu 35\, 40100\, Jyväskylä
SUMMARY:Talent Sprint Challenge | Jamk
CLASS:PUBLIC
DESCRIPTION:Empowering future talents with right opportunities! Talent Spri
 nt connects students and companies through real case-solving and practical
  collaboration. Talent Sprint is organised in collaboration with Talent Bo
 ost and Brande.<br />\n<br />\n
DTSTAMP:20260420T233447Z
END:VEVENT
BEGIN:VEVENT
UID:69e6b817b17d2
DTSTART:20260427T060000Z
SEQUENCE:0
TRANSP:OPAQUE
DTEND:20260427T130000Z
LOCATION:Rajakatu 35\, 40100\, Jyväskylä
SUMMARY:Talent Sprint Challenge | Jamk
CLASS:PUBLIC
DESCRIPTION:Empowering future talents with right opportunities! Talent Spri
 nt connects students and companies through real case-solving and practical
  collaboration. Talent Sprint is organised in collaboration with Talent Bo
 ost and Brande.<br />\n<br />\n
DTSTAMP:20260420T233447Z
END:VEVENT
BEGIN:VEVENT
UID:69e6b817b17d7
DTSTART:20260428T060000Z
SEQUENCE:0
TRANSP:OPAQUE
DTEND:20260428T130000Z
LOCATION:Rajakatu 35\, 40100\, Jyväskylä
SUMMARY:Talent Sprint Challenge | Jamk
CLASS:PUBLIC
DESCRIPTION:Empowering future talents with right opportunities! Talent Spri
 nt connects students and companies through real case-solving and practical
  collaboration. Talent Sprint is organised in collaboration with Talent Bo
 ost and Brande.<br />\n<br />\n
DTSTAMP:20260420T233447Z
END:VEVENT
BEGIN:VEVENT
UID:69e6b817b17dc
DTSTART:20260429T060000Z
SEQUENCE:0
TRANSP:OPAQUE
DTEND:20260429T130000Z
LOCATION:Rajakatu 35\, 40100\, Jyväskylä
SUMMARY:Talent Sprint Challenge | Jamk
CLASS:PUBLIC
DESCRIPTION:Empowering future talents with right opportunities! Talent Spri
 nt connects students and companies through real case-solving and practical
  collaboration. Talent Sprint is organised in collaboration with Talent Bo
 ost and Brande.<br />\n<br />\n
DTSTAMP:20260420T233447Z
END:VEVENT
BEGIN:VEVENT
UID:69e6b817b17e1
DTSTART:20260430T060000Z
SEQUENCE:0
TRANSP:OPAQUE
DTEND:20260430T130000Z
LOCATION:Rajakatu 35\, 40100\, Jyväskylä
SUMMARY:Talent Sprint Challenge | Jamk
CLASS:PUBLIC
DESCRIPTION:Empowering future talents with right opportunities! Talent Spri
 nt connects students and companies through real case-solving and practical
  collaboration. Talent Sprint is organised in collaboration with Talent Bo
 ost and Brande.<br />\n<br />\n
DTSTAMP:20260420T233447Z
END:VEVENT
BEGIN:VEVENT
UID:69e6b817b17e6
DTSTART:20260501T060000Z
SEQUENCE:0
TRANSP:OPAQUE
DTEND:20260501T130000Z
LOCATION:Rajakatu 35\, 40100\, Jyväskylä
SUMMARY:Talent Sprint Challenge | Jamk
CLASS:PUBLIC
DESCRIPTION:Empowering future talents with right opportunities! Talent Spri
 nt connects students and companies through real case-solving and practical
  collaboration. Talent Sprint is organised in collaboration with Talent Bo
 ost and Brande.<br />\n<br />\n
DTSTAMP:20260420T233447Z
END:VEVENT
BEGIN:VEVENT
UID:69e6b817b17ec
DTSTART:20260502T060000Z
SEQUENCE:0
TRANSP:OPAQUE
DTEND:20260502T130000Z
LOCATION:Rajakatu 35\, 40100\, Jyväskylä
SUMMARY:Talent Sprint Challenge | Jamk
CLASS:PUBLIC
DESCRIPTION:Empowering future talents with right opportunities! Talent Spri
 nt connects students and companies through real case-solving and practical
  collaboration. Talent Sprint is organised in collaboration with Talent Bo
 ost and Brande.<br />\n<br />\n
DTSTAMP:20260420T233447Z
END:VEVENT
BEGIN:VEVENT
UID:69e6b817b17f1
DTSTART:20260503T060000Z
SEQUENCE:0
TRANSP:OPAQUE
DTEND:20260503T130000Z
LOCATION:Rajakatu 35\, 40100\, Jyväskylä
SUMMARY:Talent Sprint Challenge | Jamk
CLASS:PUBLIC
DESCRIPTION:Empowering future talents with right opportunities! Talent Spri
 nt connects students and companies through real case-solving and practical
  collaboration. Talent Sprint is organised in collaboration with Talent Bo
 ost and Brande.<br />\n<br />\n
DTSTAMP:20260420T233447Z
END:VEVENT
BEGIN:VEVENT
UID:69e6b817b17f6
DTSTART:20260504T060000Z
SEQUENCE:0
TRANSP:OPAQUE
DTEND:20260504T130000Z
LOCATION:Rajakatu 35\, 40100\, Jyväskylä
SUMMARY:Talent Sprint Challenge | Jamk
CLASS:PUBLIC
DESCRIPTION:Empowering future talents with right opportunities! Talent Spri
 nt connects students and companies through real case-solving and practical
  collaboration. Talent Sprint is organised in collaboration with Talent Bo
 ost and Brande.<br />\n<br />\n
DTSTAMP:20260420T233447Z
END:VEVENT
BEGIN:VEVENT
UID:69e6b817b17fb
DTSTART:20260505T060000Z
SEQUENCE:0
TRANSP:OPAQUE
DTEND:20260505T130000Z
LOCATION:Rajakatu 35\, 40100\, Jyväskylä
SUMMARY:Talent Sprint Challenge | Jamk
CLASS:PUBLIC
DESCRIPTION:Empowering future talents with right opportunities! Talent Spri
 nt connects students and companies through real case-solving and practical
  collaboration. Talent Sprint is organised in collaboration with Talent Bo
 ost and Brande.<br />\n<br />\n
DTSTAMP:20260420T233447Z
END:VEVENT
BEGIN:VEVENT
UID:69e6b817b1800
DTSTART:20260506T060000Z
SEQUENCE:0
TRANSP:OPAQUE
DTEND:20260506T130000Z
LOCATION:Rajakatu 35\, 40100\, Jyväskylä
SUMMARY:Talent Sprint Challenge | Jamk
CLASS:PUBLIC
DESCRIPTION:Empowering future talents with right opportunities! Talent Spri
 nt connects students and companies through real case-solving and practical
  collaboration. Talent Sprint is organised in collaboration with Talent Bo
 ost and Brande.<br />\n<br />\n
DTSTAMP:20260420T233447Z
END:VEVENT
BEGIN:VEVENT
UID:69e6b817b1805
DTSTART:20260507T060000Z
SEQUENCE:0
TRANSP:OPAQUE
DTEND:20260507T130000Z
LOCATION:Rajakatu 35\, 40100\, Jyväskylä
SUMMARY:Talent Sprint Challenge | Jamk
CLASS:PUBLIC
DESCRIPTION:Empowering future talents with right opportunities! Talent Spri
 nt connects students and companies through real case-solving and practical
  collaboration. Talent Sprint is organised in collaboration with Talent Bo
 ost and Brande.<br />\n<br />\n
DTSTAMP:20260420T233447Z
END:VEVENT
BEGIN:VEVENT
UID:69e6b817b180a
DTSTART:20260508T060000Z
SEQUENCE:0
TRANSP:OPAQUE
DTEND:20260508T130000Z
LOCATION:Rajakatu 35\, 40100\, Jyväskylä
SUMMARY:Talent Sprint Challenge | Jamk
CLASS:PUBLIC
DESCRIPTION:Empowering future talents with right opportunities! Talent Spri
 nt connects students and companies through real case-solving and practical
  collaboration. Talent Sprint is organised in collaboration with Talent Bo
 ost and Brande.<br />\n<br />\n
DTSTAMP:20260420T233447Z
END:VEVENT
BEGIN:VEVENT
UID:69e6b817b180f
DTSTART:20260509T060000Z
SEQUENCE:0
TRANSP:OPAQUE
DTEND:20260509T130000Z
LOCATION:Rajakatu 35\, 40100\, Jyväskylä
SUMMARY:Talent Sprint Challenge | Jamk
CLASS:PUBLIC
DESCRIPTION:Empowering future talents with right opportunities! Talent Spri
 nt connects students and companies through real case-solving and practical
  collaboration. Talent Sprint is organised in collaboration with Talent Bo
 ost and Brande.<br />\n<br />\n
DTSTAMP:20260420T233447Z
END:VEVENT
BEGIN:VEVENT
UID:69e6b817b181b
DTSTART:20260510T060000Z
SEQUENCE:0
TRANSP:OPAQUE
DTEND:20260510T130000Z
LOCATION:Rajakatu 35\, 40100\, Jyväskylä
SUMMARY:Talent Sprint Challenge | Jamk
CLASS:PUBLIC
DESCRIPTION:Empowering future talents with right opportunities! Talent Spri
 nt connects students and companies through real case-solving and practical
  collaboration. Talent Sprint is organised in collaboration with Talent Bo
 ost and Brande.<br />\n<br />\n
DTSTAMP:20260420T233447Z
END:VEVENT
BEGIN:VEVENT
UID:69e6b817b1820
DTSTART:20260511T060000Z
SEQUENCE:0
TRANSP:OPAQUE
DTEND:20260511T130000Z
LOCATION:Rajakatu 35\, 40100\, Jyväskylä
SUMMARY:Talent Sprint Challenge | Jamk
CLASS:PUBLIC
DESCRIPTION:Empowering future talents with right opportunities! Talent Spri
 nt connects students and companies through real case-solving and practical
  collaboration. Talent Sprint is organised in collaboration with Talent Bo
 ost and Brande.<br />\n<br />\n
DTSTAMP:20260420T233447Z
END:VEVENT
BEGIN:VEVENT
UID:69e6b817b1826
DTSTART:20260512T060000Z
SEQUENCE:0
TRANSP:OPAQUE
DTEND:20260512T130000Z
LOCATION:Rajakatu 35\, 40100\, Jyväskylä
SUMMARY:Talent Sprint Challenge | Jamk
CLASS:PUBLIC
DESCRIPTION:Empowering future talents with right opportunities! Talent Spri
 nt connects students and companies through real case-solving and practical
  collaboration. Talent Sprint is organised in collaboration with Talent Bo
 ost and Brande.<br />\n<br />\n
DTSTAMP:20260420T233447Z
END:VEVENT
BEGIN:VEVENT
UID:69e6b817b182d
DTSTART:20260513T060000Z
SEQUENCE:0
TRANSP:OPAQUE
DTEND:20260513T130000Z
LOCATION:Rajakatu 35\, 40100\, Jyväskylä
SUMMARY:Talent Sprint Challenge | Jamk
CLASS:PUBLIC
DESCRIPTION:Empowering future talents with right opportunities! Talent Spri
 nt connects students and companies through real case-solving and practical
  collaboration. Talent Sprint is organised in collaboration with Talent Bo
 ost and Brande.<br />\n<br />\n
DTSTAMP:20260420T233447Z
END:VEVENT
BEGIN:VEVENT
UID:69e6b817b1836
DTSTART:20260514T060000Z
SEQUENCE:0
TRANSP:OPAQUE
DTEND:20260514T130000Z
LOCATION:Rajakatu 35\, 40100\, Jyväskylä
SUMMARY:Talent Sprint Challenge | Jamk
CLASS:PUBLIC
DESCRIPTION:Empowering future talents with right opportunities! Talent Spri
 nt connects students and companies through real case-solving and practical
  collaboration. Talent Sprint is organised in collaboration with Talent Bo
 ost and Brande.<br />\n<br />\n
DTSTAMP:20260420T233447Z
END:VEVENT
BEGIN:VEVENT
UID:69e6b817b183c
DTSTART:20260515T060000Z
SEQUENCE:0
TRANSP:OPAQUE
DTEND:20260515T130000Z
LOCATION:Rajakatu 35\, 40100\, Jyväskylä
SUMMARY:Talent Sprint Challenge | Jamk
CLASS:PUBLIC
DESCRIPTION:Empowering future talents with right opportunities! Talent Spri
 nt connects students and companies through real case-solving and practical
  collaboration. Talent Sprint is organised in collaboration with Talent Bo
 ost and Brande.<br />\n<br />\n
DTSTAMP:20260420T233447Z
END:VEVENT
BEGIN:VEVENT
UID:69e6b817b1841
DTSTART:20260516T060000Z
SEQUENCE:0
TRANSP:OPAQUE
DTEND:20260516T130000Z
LOCATION:Rajakatu 35\, 40100\, Jyväskylä
SUMMARY:Talent Sprint Challenge | Jamk
CLASS:PUBLIC
DESCRIPTION:Empowering future talents with right opportunities! Talent Spri
 nt connects students and companies through real case-solving and practical
  collaboration. Talent Sprint is organised in collaboration with Talent Bo
 ost and Brande.<br />\n<br />\n
DTSTAMP:20260420T233447Z
END:VEVENT
BEGIN:VEVENT
UID:69e6b817b186e
DTSTART:20260517T060000Z
SEQUENCE:0
TRANSP:OPAQUE
DTEND:20260517T130000Z
LOCATION:Rajakatu 35\, 40100\, Jyväskylä
SUMMARY:Talent Sprint Challenge | Jamk
CLASS:PUBLIC
DESCRIPTION:Empowering future talents with right opportunities! Talent Spri
 nt connects students and companies through real case-solving and practical
  collaboration. Talent Sprint is organised in collaboration with Talent Bo
 ost and Brande.<br />\n<br />\n
DTSTAMP:20260420T233447Z
END:VEVENT
BEGIN:VEVENT
UID:69e6b817b1874
DTSTART:20260518T060000Z
SEQUENCE:0
TRANSP:OPAQUE
DTEND:20260518T130000Z
LOCATION:Rajakatu 35\, 40100\, Jyväskylä
SUMMARY:Talent Sprint Challenge | Jamk
CLASS:PUBLIC
DESCRIPTION:Empowering future talents with right opportunities! Talent Spri
 nt connects students and companies through real case-solving and practical
  collaboration. Talent Sprint is organised in collaboration with Talent Bo
 ost and Brande.<br />\n<br />\n
DTSTAMP:20260420T233447Z
END:VEVENT
BEGIN:VEVENT
UID:69e6b817b1879
DTSTART:20260519T060000Z
SEQUENCE:0
TRANSP:OPAQUE
DTEND:20260519T130000Z
LOCATION:Rajakatu 35\, 40100\, Jyväskylä
SUMMARY:Talent Sprint Challenge | Jamk
CLASS:PUBLIC
DESCRIPTION:Empowering future talents with right opportunities! Talent Spri
 nt connects students and companies through real case-solving and practical
  collaboration. Talent Sprint is organised in collaboration with Talent Bo
 ost and Brande.<br />\n<br />\n
DTSTAMP:20260420T233447Z
END:VEVENT
BEGIN:VEVENT
UID:69e6b817b187f
DTSTART:20260520T060000Z
SEQUENCE:0
TRANSP:OPAQUE
DTEND:20260520T130000Z
LOCATION:Rajakatu 35\, 40100\, Jyväskylä
SUMMARY:Talent Sprint Challenge | Jamk
CLASS:PUBLIC
DESCRIPTION:Empowering future talents with right opportunities! Talent Spri
 nt connects students and companies through real case-solving and practical
  collaboration. Talent Sprint is organised in collaboration with Talent Bo
 ost and Brande.<br />\n<br />\n
DTSTAMP:20260420T233447Z
END:VEVENT
BEGIN:VEVENT
UID:69e6b817b1884
DTSTART:20260521T060000Z
SEQUENCE:0
TRANSP:OPAQUE
DTEND:20260521T130000Z
LOCATION:Rajakatu 35\, 40100\, Jyväskylä
SUMMARY:Talent Sprint Challenge | Jamk
CLASS:PUBLIC
DESCRIPTION:Empowering future talents with right opportunities! Talent Spri
 nt connects students and companies through real case-solving and practical
  collaboration. Talent Sprint is organised in collaboration with Talent Bo
 ost and Brande.<br />\n<br />\n
DTSTAMP:20260420T233447Z
END:VEVENT
BEGIN:VEVENT
UID:69e6b817b1889
DTSTART:20260522T060000Z
SEQUENCE:0
TRANSP:OPAQUE
DTEND:20260522T130000Z
LOCATION:Rajakatu 35\, 40100\, Jyväskylä
SUMMARY:Talent Sprint Challenge | Jamk
CLASS:PUBLIC
DESCRIPTION:Empowering future talents with right opportunities! Talent Spri
 nt connects students and companies through real case-solving and practical
  collaboration. Talent Sprint is organised in collaboration with Talent Bo
 ost and Brande.<br />\n<br />\n
DTSTAMP:20260420T233447Z
END:VEVENT
BEGIN:VEVENT
UID:69e6b817b188e
DTSTART:20260523T060000Z
SEQUENCE:0
TRANSP:OPAQUE
DTEND:20260523T130000Z
LOCATION:Rajakatu 35\, 40100\, Jyväskylä
SUMMARY:Talent Sprint Challenge | Jamk
CLASS:PUBLIC
DESCRIPTION:Empowering future talents with right opportunities! Talent Spri
 nt connects students and companies through real case-solving and practical
  collaboration. Talent Sprint is organised in collaboration with Talent Bo
 ost and Brande.<br />\n<br />\n
DTSTAMP:20260420T233447Z
END:VEVENT
BEGIN:VEVENT
UID:69e6b817b1893
DTSTART:20260524T060000Z
SEQUENCE:0
TRANSP:OPAQUE
DTEND:20260524T130000Z
LOCATION:Rajakatu 35\, 40100\, Jyväskylä
SUMMARY:Talent Sprint Challenge | Jamk
CLASS:PUBLIC
DESCRIPTION:Empowering future talents with right opportunities! Talent Spri
 nt connects students and companies through real case-solving and practical
  collaboration. Talent Sprint is organised in collaboration with Talent Bo
 ost and Brande.<br />\n<br />\n
DTSTAMP:20260420T233447Z
END:VEVENT
BEGIN:VEVENT
UID:69e6b817b1898
DTSTART:20260525T060000Z
SEQUENCE:0
TRANSP:OPAQUE
DTEND:20260525T130000Z
LOCATION:Rajakatu 35\, 40100\, Jyväskylä
SUMMARY:Talent Sprint Challenge | Jamk
CLASS:PUBLIC
DESCRIPTION:Empowering future talents with right opportunities! Talent Spri
 nt connects students and companies through real case-solving and practical
  collaboration. Talent Sprint is organised in collaboration with Talent Bo
 ost and Brande.<br />\n<br />\n
DTSTAMP:20260420T233447Z
END:VEVENT
BEGIN:VEVENT
UID:69e6b817b189c
DTSTART:20260526T060000Z
SEQUENCE:0
TRANSP:OPAQUE
DTEND:20260526T130000Z
LOCATION:Rajakatu 35\, 40100\, Jyväskylä
SUMMARY:Talent Sprint Challenge | Jamk
CLASS:PUBLIC
DESCRIPTION:Empowering future talents with right opportunities! Talent Spri
 nt connects students and companies through real case-solving and practical
  collaboration. Talent Sprint is organised in collaboration with Talent Bo
 ost and Brande.<br />\n<br />\n
DTSTAMP:20260420T233447Z
END:VEVENT
BEGIN:VEVENT
UID:69e6b817b18a1
DTSTART:20260527T060000Z
SEQUENCE:0
TRANSP:OPAQUE
DTEND:20260527T130000Z
LOCATION:Rajakatu 35\, 40100\, Jyväskylä
SUMMARY:Talent Sprint Challenge | Jamk
CLASS:PUBLIC
DESCRIPTION:Empowering future talents with right opportunities! Talent Spri
 nt connects students and companies through real case-solving and practical
  collaboration. Talent Sprint is organised in collaboration with Talent Bo
 ost and Brande.<br />\n<br />\n
DTSTAMP:20260420T233447Z
END:VEVENT
BEGIN:VEVENT
UID:69e6b817b18a7
DTSTART:20260528T060000Z
SEQUENCE:0
TRANSP:OPAQUE
DTEND:20260528T130000Z
LOCATION:Rajakatu 35\, 40100\, Jyväskylä
SUMMARY:Talent Sprint Challenge | Jamk
CLASS:PUBLIC
DESCRIPTION:Empowering future talents with right opportunities! Talent Spri
 nt connects students and companies through real case-solving and practical
  collaboration. Talent Sprint is organised in collaboration with Talent Bo
 ost and Brande.<br />\n<br />\n
DTSTAMP:20260420T233447Z
END:VEVENT
BEGIN:VEVENT
UID:69e6b817b18ac
DTSTART:20260529T060000Z
SEQUENCE:0
TRANSP:OPAQUE
DTEND:20260529T130000Z
LOCATION:Rajakatu 35\, 40100\, Jyväskylä
SUMMARY:Talent Sprint Challenge | Jamk
CLASS:PUBLIC
DESCRIPTION:Empowering future talents with right opportunities! Talent Spri
 nt connects students and companies through real case-solving and practical
  collaboration. Talent Sprint is organised in collaboration with Talent Bo
 ost and Brande.<br />\n<br />\n
DTSTAMP:20260420T233447Z
END:VEVENT
BEGIN:VEVENT
UID:69e6b817b18b1
DTSTART:20260530T060000Z
SEQUENCE:0
TRANSP:OPAQUE
DTEND:20260530T130000Z
LOCATION:Rajakatu 35\, 40100\, Jyväskylä
SUMMARY:Talent Sprint Challenge | Jamk
CLASS:PUBLIC
DESCRIPTION:Empowering future talents with right opportunities! Talent Spri
 nt connects students and companies through real case-solving and practical
  collaboration. Talent Sprint is organised in collaboration with Talent Bo
 ost and Brande.<br />\n<br />\n
DTSTAMP:20260420T233447Z
END:VEVENT
BEGIN:VEVENT
UID:69e6b817b18b6
DTSTART:20260531T060000Z
SEQUENCE:0
TRANSP:OPAQUE
DTEND:20260531T130000Z
LOCATION:Rajakatu 35\, 40100\, Jyväskylä
SUMMARY:Talent Sprint Challenge | Jamk
CLASS:PUBLIC
DESCRIPTION:Empowering future talents with right opportunities! Talent Spri
 nt connects students and companies through real case-solving and practical
  collaboration. Talent Sprint is organised in collaboration with Talent Bo
 ost and Brande.<br />\n<br />\n
DTSTAMP:20260420T233447Z
END:VEVENT
END:VCALENDAR